BEGIN:VCALENDAR
VERSION:2.0
PRODID:-//eventon.com NONSGML v1.0//EN
BEGIN:VEVENT
UID:69e5d1958a7e8
DTSTAMP:20260420T091117
DTSTART:20150319T230000Z
DTEND:20150323T230000Z
LOCATION:San Franscisco 
SUMMARY:73rd Annual Meeting American Academy of Dermatology
DESCRIPTION: Más información: 73rd Annual Meeting American Academy of Dermatology Fecha: 20 al 24 de Marzo 2015 Lugar: San Francisco\,  USA
END:VEVENT
END:VCALENDAR