BEGIN:VCALENDAR
VERSION:2.0
PRODID:-//eventon.com NONSGML v1.0//EN
BEGIN:VEVENT
UID:69e747952a0fd
DTSTAMP:20260421T114701
DTSTART:20260427T140000Z
DTEND:20260427T170000Z
LOCATION:
SUMMARY:Encuentros en Digestivo
DESCRIPTION: Proyecto “Encuentros en Digestivo”\,  cuyo objetivo es identificar lagunas formativas y áreas de mejora en la colaboración entre Dermatología y Patología Digestiva\,  con la finalidad de fortalecer el abordaje conjunto de patologías compartidas y optimizar la atención a nuestros pacientes. JORNADA PRESENCIAL Lunes\,  27 de abril De 16:00 a 19:00[..]
END:VEVENT
END:VCALENDAR