BEGIN:VCALENDAR
VERSION:2.0
PRODID:-//eventon.com NONSGML v1.0//EN
BEGIN:VEVENT
UID:69eb3828b24b4
DTSTAMP:20260424T113016
DTSTART:20240430T160000Z
DTEND:20240430T180000Z
LOCATION:REAL ACADEMIA NACIONAL DE MEDICINA DE ESPAÑA ARRIETA\,  12
SUMMARY:Sesión Científica de Dermatología en la Real Academia Nacional de Medicina de España
DESCRIPTION: El próximo 30 de abril a las 18:00h se celebrará una Sesión Científica de Dermatología en en la Real Academia Nacional de Medicina de España \,  C/ Arrieta\,  12\,  Madrid. El Dr. Esteban Daudén Tello dará una conferencia sobre "Enfermedades inmunomediadas. Más allá de la piel" y el Dr. Francisco[..]
END:VEVENT
END:VCALENDAR